BEGIN:VCALENDAR
VERSION:2.0
PRODID:-//Marriage Dynamics Institute - ECPv6.13.2.1//NONSGML v1.0//EN
CALSCALE:GREGORIAN
METHOD:PUBLISH
X-WR-CALNAME:Marriage Dynamics Institute
X-ORIGINAL-URL:https://marriagedynamics.com
X-WR-CALDESC:Events for Marriage Dynamics Institute
REFRESH-INTERVAL;VALUE=DURATION:PT1H
X-Robots-Tag:noindex
X-PUBLISHED-TTL:PT1H
BEGIN:VTIMEZONE
TZID:America/Chicago
BEGIN:DAYLIGHT
TZOFFSETFROM:-0600
TZOFFSETTO:-0500
TZNAME:CDT
DTSTART:20190310T080000
END:DAYLIGHT
BEGIN:STANDARD
TZOFFSETFROM:-0500
TZOFFSETTO:-0600
TZNAME:CST
DTSTART:20191103T070000
END:STANDARD
BEGIN:DAYLIGHT
TZOFFSETFROM:-0600
TZOFFSETTO:-0500
TZNAME:CDT
DTSTART:20200308T080000
END:DAYLIGHT
BEGIN:STANDARD
TZOFFSETFROM:-0500
TZOFFSETTO:-0600
TZNAME:CST
DTSTART:20201101T070000
END:STANDARD
BEGIN:DAYLIGHT
TZOFFSETFROM:-0600
TZOFFSETTO:-0500
TZNAME:CDT
DTSTART:20210314T080000
END:DAYLIGHT
BEGIN:STANDARD
TZOFFSETFROM:-0500
TZOFFSETTO:-0600
TZNAME:CST
DTSTART:20211107T070000
END:STANDARD
BEGIN:DAYLIGHT
TZOFFSETFROM:-0600
TZOFFSETTO:-0500
TZNAME:CDT
DTSTART:20220313T080000
END:DAYLIGHT
BEGIN:STANDARD
TZOFFSETFROM:-0500
TZOFFSETTO:-0600
TZNAME:CST
DTSTART:20221106T070000
END:STANDARD
END:VTIMEZONE
BEGIN:VEVENT
DTSTART;VALUE=DATE:20220329
DTEND;VALUE=DATE:20220525
DTSTAMP:20260420T032114
CREATED:20220223T141440Z
LAST-MODIFIED:20220224T221045Z
UID:9949-1648512000-1653436799@marriagedynamics.com
SUMMARY:Memphis\, TN
DESCRIPTION:
URL:https://marriagedynamics.com/event/memphis-tn-3/
LOCATION:Inside Out Counseling & Coaching
CATEGORIES:Dynamic Marriage
ORGANIZER;CN="Jermaine & Katherine Shorter":MAILTO:ioccmemphis@gmail.com
END:VEVENT
BEGIN:VEVENT
DTSTART;VALUE=DATE:20200713
DTEND;VALUE=DATE:20200908
DTSTAMP:20260420T032114
CREATED:20200529T164922Z
LAST-MODIFIED:20200717T172615Z
UID:8690-1594598400-1599523199@marriagedynamics.com
SUMMARY:Live Online (Shorter)
DESCRIPTION:
URL:https://marriagedynamics.com/event/arlington-tn-online/
LOCATION:Registration open to the public
CATEGORIES:United
ORGANIZER;CN="Jermaine & Katherine Shorter":MAILTO:ioccmemphis@gmail.com
END:VEVENT
BEGIN:VEVENT
DTSTART;VALUE=DATE:20191021
DTEND;VALUE=DATE:20191217
DTSTAMP:20260420T032114
CREATED:20190927T203603Z
LAST-MODIFIED:20190927T203603Z
UID:7524-1571616000-1576540799@marriagedynamics.com
SUMMARY:Bartlett\, TN
DESCRIPTION:
URL:https://marriagedynamics.com/event/bartlett-tn/
LOCATION:Oliver Creek Church of Christ
CATEGORIES:Dynamic Marriage
ORGANIZER;CN="Jermaine & Katherine Shorter":MAILTO:ioccmemphis@gmail.com
END:VEVENT
END:VCALENDAR