BEGIN:VCALENDAR
VERSION:2.0
PRODID:-//Marriage Dynamics Institute - ECPv6.13.2.1//NONSGML v1.0//EN
CALSCALE:GREGORIAN
METHOD:PUBLISH
X-WR-CALNAME:Marriage Dynamics Institute
X-ORIGINAL-URL:https://marriagedynamics.com
X-WR-CALDESC:Events for Marriage Dynamics Institute
REFRESH-INTERVAL;VALUE=DURATION:PT1H
X-Robots-Tag:noindex
X-PUBLISHED-TTL:PT1H
BEGIN:VTIMEZONE
TZID:America/Chicago
BEGIN:DAYLIGHT
TZOFFSETFROM:-0600
TZOFFSETTO:-0500
TZNAME:CDT
DTSTART:20250309T080000
END:DAYLIGHT
BEGIN:STANDARD
TZOFFSETFROM:-0500
TZOFFSETTO:-0600
TZNAME:CST
DTSTART:20251102T070000
END:STANDARD
END:VTIMEZONE
BEGIN:VEVENT
DTSTART;VALUE=DATE:20250919
DTEND;VALUE=DATE:20250922
DTSTAMP:20260423T062010
CREATED:20250902T142034Z
LAST-MODIFIED:20250902T142034Z
UID:20439-1758240000-1758499199@marriagedynamics.com
SUMMARY:Facilitator Training Seminary: Sacramento\, CA
DESCRIPTION:
URL:https://marriagedynamics.com/event/facilitator-training-seminary-sacramento-ca/
LOCATION:Christ Temple Apostolic Church
CATEGORIES:Dynamic Marriage Facilitator Training
ORGANIZER;CN="Chris & Christine Patterson":MAILTO:clpatterso@gmail.com
END:VEVENT
BEGIN:VEVENT
DTSTART;VALUE=DATE:20250914
DTEND;VALUE=DATE:20251110
DTSTAMP:20260423T062010
CREATED:20250902T141208Z
LAST-MODIFIED:20250902T143237Z
UID:20438-1757808000-1762732799@marriagedynamics.com
SUMMARY:Sacramento\, CA
DESCRIPTION:
URL:https://marriagedynamics.com/event/sacramento-ca/
LOCATION:Christ Temple Apostolic Church
CATEGORIES:Dynamic Marriage
ORGANIZER;CN="Chris & Christine Patterson":MAILTO:clpatterso@gmail.com
END:VEVENT
END:VCALENDAR