BEGIN:VCALENDAR
VERSION:2.0
PRODID:-//Marriage Dynamics Institute - ECPv6.13.2.1//NONSGML v1.0//EN
CALSCALE:GREGORIAN
METHOD:PUBLISH
X-WR-CALNAME:Marriage Dynamics Institute
X-ORIGINAL-URL:https://marriagedynamics.com
X-WR-CALDESC:Events for Marriage Dynamics Institute
REFRESH-INTERVAL;VALUE=DURATION:PT1H
X-Robots-Tag:noindex
X-PUBLISHED-TTL:PT1H
BEGIN:VTIMEZONE
TZID:America/Chicago
BEGIN:DAYLIGHT
TZOFFSETFROM:-0600
TZOFFSETTO:-0500
TZNAME:CDT
DTSTART:20180311T080000
END:DAYLIGHT
BEGIN:STANDARD
TZOFFSETFROM:-0500
TZOFFSETTO:-0600
TZNAME:CST
DTSTART:20181104T070000
END:STANDARD
END:VTIMEZONE
BEGIN:VEVENT
DTSTART;VALUE=DATE:20180909
DTEND;VALUE=DATE:20181105
DTSTAMP:20260420T032222
CREATED:20180716T204820Z
LAST-MODIFIED:20180716T204820Z
UID:4563-1536451200-1541375999@marriagedynamics.com
SUMMARY:San Antonio\, TX
DESCRIPTION:
URL:https://marriagedynamics.com/event/san-antonio-tx-7/
LOCATION:True Vine Baptist Church
CATEGORIES:Dynamic Marriage
ORGANIZER;CN="Gary & Jackie Barham":MAILTO:jackie_7barham@yahoo.com
END:VEVENT
END:VCALENDAR